BEGIN:VCALENDAR
VERSION:2.0
PRODID:TU Chemnitz
METHOD:PUBLISH
X-WR-CALNAME:Veranstaltungen der TU Chemnitz
X-WR-TIMEZONE:Europe/Berlin
BEGIN:VEVENT
CLASS:PUBLIC
DTSTART;TZID="Europe/Berlin":20120508T090000
DTEND;TZID="Europe/Berlin":20120508T170000
LOCATION:Pegasus-Center\, Chemnitz
SUMMARY:SAXEED-Workshop - Geschäftsmodelle gestalten (Fakultät für Wirtschaftswissenschaften\, Professur für Marketing und Handelsbetriebslehre)
DESCRIPTION:Wie kann mein Geschäft funktionieren? Wie erwirtschafte ich Erträge und wo entstehen Kosten? Durch die Entwicklung und Beschreibung des Geschäftsmodells werden Schlüsselfaktoren des Erfolgs erkannt und ausgebaut.\nMarkus Schacht\, Gründernetzwerk SAXEED\nSusanne Schübel\, 0371 531 19997\, susanne.schuebel@saxeed.net
ORGANIZER:MAILTO:susanne.schuebel@wirtschaft.tu-chemnitz.de
UID:14187@www.tu-chemnitz.de
CREATED:20120504T101500Z
DTSTAMP:20210802T192349Z
END:VEVENT
END:VCALENDAR
