BEGIN:VCALENDAR
VERSION:2.0
PRODID:TU Chemnitz
METHOD:PUBLISH
X-WR-CALNAME:Veranstaltungen der TU Chemnitz
X-WR-TIMEZONE:Europe/Berlin
BEGIN:VEVENT
CLASS:PUBLIC
DTSTART;TZID="Europe/Berlin":20120920T080000
DTEND;TZID="Europe/Berlin":20120921T130000
LOCATION:Erfenschlager Str. 73\, Chemnitz
SUMMARY:15. Werkstofftechnisches Kolloquium (Fakultät für Maschinenbau\, Institut für Werkstoffwissenschaft und Werkstofftechnik)
DESCRIPTION:Zwei Tage rund um Werkstoffe und Oberflächen.\nDipl.-Ing. Susann Hausner\, 0371-531-37929\, susann.hausner@mb.tu-chemnitz.de
ORGANIZER:MAILTO:susann.hausner@mb.tu-chemnitz.de
UID:14183@www.tu-chemnitz.de
CREATED:20120503T110800Z
DTSTAMP:20210802T192200Z
END:VEVENT
END:VCALENDAR
