BEGIN:VCALENDAR
VERSION:2.0
PRODID:TU Chemnitz
METHOD:PUBLISH
X-WR-CALNAME:Veranstaltungen der TU Chemnitz
X-WR-TIMEZONE:Europe/Berlin
BEGIN:VEVENT
CLASS:PUBLIC
DTSTART;TZID="Europe/Berlin":20120516T171500
DTEND;TZID="Europe/Berlin":20120516T183000
LOCATION:Reichenhainer Str. 90\, Chemnitz (Zentr. Hörsaal- und Seminargebäude)
SUMMARY:Physikalisches Kolloquium (Fakultät für Naturwissenschaften\, Institut für Physik)
DESCRIPTION:Thema: "Magnon-Spintronik"\nProf. Dr. Burkard Hillebrands (TU Kaiserslautern)\nProf. Dr. Manfred Albrecht
ORGANIZER:MAILTO:evelin.straube@physik.tu-chemnitz.de
UID:14153@www.tu-chemnitz.de
CREATED:20120419T152100Z
DTSTAMP:20210802T192341Z
END:VEVENT
END:VCALENDAR
