BEGIN:VCALENDAR
VERSION:2.0
PRODID:TU Chemnitz
METHOD:PUBLISH
X-WR-CALNAME:Veranstaltungen der TU Chemnitz
X-WR-TIMEZONE:Europe/Berlin
BEGIN:VEVENT
CLASS:PUBLIC
DTSTART;TZID="Europe/Berlin":20120613T173000
DTEND;TZID="Europe/Berlin":20120613T190000
LOCATION:Reichenhainer Str. 90\, Chemnitz (Zentr. Hörsaal- und Seminargebäude)
SUMMARY:Die ersten 100 Tage im Unternehmen (Agentur für Arbeit Chemnitz/Hochschulteam)
DESCRIPTION:Business-Knigge\, Kommunikation im Beruf\, damit Sie von typischen Stolperfallen verschont bleiben\nHerr Reinl\, Training & Consulting\n Chemnitz.Hochschulteam@arbeitsagentur.de\, Tel. 0371/567-2240
ORGANIZER:MAILTO:evelin.haeusler@verwaltung.tu-chemnitz.de
UID:14132@www.tu-chemnitz.de
CREATED:20120413T075600Z
DTSTAMP:20210802T192259Z
END:VEVENT
END:VCALENDAR
