BEGIN:VCALENDAR
VERSION:2.0
PRODID:TU Chemnitz
METHOD:PUBLISH
X-WR-CALNAME:Veranstaltungen der TU Chemnitz
X-WR-TIMEZONE:Europe/Berlin
BEGIN:VEVENT
CLASS:PUBLIC
DTSTART;TZID="Europe/Berlin":20120510T090000
DTEND;TZID="Europe/Berlin":20120510T160000
LOCATION:Agentur für Arbeit Chemnitz
SUMMARY:Arbeitgeberkontakte gezielt aufbauen und souverän umsetzen - Bewerbungsseminar (Agentur für Arbeit Chemnitz/Hochschulteam)
DESCRIPTION:Perfekt vorbereitet oder verpatzt? Grundregeln und Übungen(Videotraining zusätzlich am 15.05.12 von 14-17 Uhr möglich)\nAnmeldung unter Chemnitz.Hochschulteam@arbeitsagentur.de\, Tel. 0371/567-2240
ORGANIZER:MAILTO:evelin.haeusler@verwaltung.tu-chemnitz.de
UID:14130@www.tu-chemnitz.de
CREATED:20120413T074800Z
DTSTAMP:20210802T192344Z
END:VEVENT
END:VCALENDAR
