BEGIN:VCALENDAR
VERSION:2.0
PRODID:TU Chemnitz
METHOD:PUBLISH
X-WR-CALNAME:Veranstaltungen der TU Chemnitz
X-WR-TIMEZONE:Europe/Berlin
BEGIN:VEVENT
CLASS:PUBLIC
DTSTART;TZID="Europe/Berlin":20120508T190000
DTEND;TZID="Europe/Berlin":20120508T230000
LOCATION:Club der Kulturen\, Thüringer Weg 3
SUMMARY:NATUC-Strickabend (NATUC - Referat für Ökologie und Nachhaltigkeit )
DESCRIPTION:Neue Veranstaltungsreihe: Stricken und Häkeln. Egal ob Fädellaie oder Nadelakrobat - jeder ist willkommen. Unsere Handarbeitsvirtuosen werden euch mit Rat und Tat zur Seite stehen. Jetzt loslegen\, damit Mütze\, Schal und Pulli im Herbst einsatzbereit sind!\nkein Eintritt\, oekologie@stura.tu-chemnitz.de
ORGANIZER:MAILTO:susanne.rade@s2008.tu-chemnitz.de
UID:14122@www.tu-chemnitz.de
CREATED:20120410T220300Z
DTSTAMP:20210802T192344Z
END:VEVENT
END:VCALENDAR
