BEGIN:VCALENDAR
VERSION:2.0
PRODID:TU Chemnitz
METHOD:PUBLISH
X-WR-CALNAME:Veranstaltungen der TU Chemnitz
X-WR-TIMEZONE:Europe/Berlin
BEGIN:VEVENT
CLASS:PUBLIC
DTSTART;TZID="Europe/Berlin":20120424T160000
DTEND;TZID="Europe/Berlin":20120424T173000
LOCATION:Reichenhainer Str. 90\, Chemnitz (Zentr. Hörsaal- und Seminargebäude)
SUMMARY:Kunststofftechnisches Kolloquium (Fakultät für Maschinenbau\, Professur Kunststoffe\, Professur Fördertechnik\, Professur Polymerchemie)
DESCRIPTION:Thema: Terenz Compounds-Spezialitäten im Fokus\nHerr Dipl.-Ing. G. Brkljac\, Anwendungstechnik u. Produktionsentwicklung\, TER HELL Plasic GmbH\nTeilnahme für alle Interessenten frei
ORGANIZER:MAILTO:sven.mauersberger@mb.tu-chemnitz.de
UID:14115@www.tu-chemnitz.de
CREATED:20120410T092100Z
DTSTAMP:20210802T192423Z
END:VEVENT
END:VCALENDAR
