BEGIN:VCALENDAR
VERSION:2.0
PRODID:TU Chemnitz
METHOD:PUBLISH
X-WR-CALNAME:Veranstaltungen der TU Chemnitz
X-WR-TIMEZONE:Europe/Berlin
BEGIN:VEVENT
CLASS:PUBLIC
DTSTART;TZID="Europe/Berlin":20120424T150000
DTEND;TZID="Europe/Berlin":20120424T183000
LOCATION:Kursraum der Kompetenzschule
SUMMARY:Zwischen Karrierewunsch und Aufstiegschancen - Frauen in Führungspositionen (Kompetenzschule)
DESCRIPTION:Führen Frauen anders als Männer? Das ist die Leitfrage dieser Ringveranstaltung\, die sich im Speziellen an alle Doktorandinnen richtet. Im Zentrum stehen u. a. die Reflexion des persönlichen Stils und spezifische Kommunikationsstrategien.\nOnline-Anmeldung auf Homepage
ORGANIZER:MAILTO:carlo.klauth@verwaltung.tu-chemnitz.de
UID:14107@www.tu-chemnitz.de
CREATED:20120405T084900Z
DTSTAMP:20210802T192420Z
END:VEVENT
END:VCALENDAR
