BEGIN:VCALENDAR
VERSION:2.0
PRODID:TU Chemnitz
METHOD:PUBLISH
X-WR-CALNAME:Veranstaltungen der TU Chemnitz
X-WR-TIMEZONE:Europe/Berlin
BEGIN:VEVENT
CLASS:PUBLIC
DTSTART;TZID="Europe/Berlin":20120629T100000
DTEND;TZID="Europe/Berlin":20120629T160000
LOCATION:Kursraum der Kompetenzschule
SUMMARY:Projekte managen (Kompetenzschule)
DESCRIPTION:In diesem zweitägigen Seminar können Sie sich mit den besonderen Bedingungen der Projektarbeit\, idealtypischen Projektverläufen und deren Erfolgsfaktoren vertraut machen.\nOnline-Anmeldung auf Homepage
ORGANIZER:MAILTO:carlo.klauth@verwaltung.tu-chemnitz.de
UID:14104@www.tu-chemnitz.de
CREATED:20120405T083900Z
DTSTAMP:20210802T192307Z
END:VEVENT
END:VCALENDAR
