BEGIN:VCALENDAR
VERSION:2.0
PRODID:TU Chemnitz
METHOD:PUBLISH
X-WR-CALNAME:Veranstaltungen der TU Chemnitz
X-WR-TIMEZONE:Europe/Berlin
BEGIN:VEVENT
CLASS:PUBLIC
DTSTART;TZID="Europe/Berlin":20120531T130000
DTEND;TZID="Europe/Berlin":20120531T190000
LOCATION:Kursraum der Kompetenzschule
SUMMARY:Mitarbeitergespräche souverän führen (Kompetenzschule)
DESCRIPTION:In diesem Workshop werden Ihnen die erforderlichen Methoden\, Techniken und psychologischen Aspekte vermittelt\, um Gespräche erfolgreich zu gestalten und durchzuführen.\nOnline-Anmeldung auf Homepage
ORGANIZER:MAILTO:carlo.klauth@verwaltung.tu-chemnitz.de
UID:14101@www.tu-chemnitz.de
CREATED:20120404T151300Z
DTSTAMP:20210802T192345Z
END:VEVENT
END:VCALENDAR
