BEGIN:VCALENDAR
VERSION:2.0
PRODID:TU Chemnitz
METHOD:PUBLISH
X-WR-CALNAME:Veranstaltungen der TU Chemnitz
X-WR-TIMEZONE:Europe/Berlin
BEGIN:VEVENT
CLASS:PUBLIC
DTSTART;TZID="Europe/Berlin":20120725T090000
DTEND;TZID="Europe/Berlin":20120725T180000
LOCATION:Kursraum der Kompetenzschule
SUMMARY:Präsentieren mit Medien - Form follows Function (Kompetenzschule)
DESCRIPTION:In diesem Tagesseminar erproben Sie auf Basis selbst erarbeiteter Kurzpräsentationen den Einsatz unterschiedlicher Medien (wie z.B. Power-Point\, Overheadprojektor\, Whiteboard\, Skype) und diskutieren deren Möglichkeiten und Grenzen.\nOnline-Anmeldung auf Homepage
ORGANIZER:MAILTO:carlo.klauth@verwaltung.tu-chemnitz.de
UID:14099@www.tu-chemnitz.de
CREATED:20120404T150600Z
DTSTAMP:20210802T192244Z
END:VEVENT
END:VCALENDAR
