BEGIN:VCALENDAR
VERSION:2.0
PRODID:TU Chemnitz
METHOD:PUBLISH
X-WR-CALNAME:Veranstaltungen der TU Chemnitz
X-WR-TIMEZONE:Europe/Berlin
BEGIN:VEVENT
CLASS:PUBLIC
DTSTART;TZID="Europe/Berlin":20120829T130000
DTEND;TZID="Europe/Berlin":20120829T170000
LOCATION:Str. der Nationen 62\, Chemnitz (Altes Heizhaus)
SUMMARY:Ich als Führungspersönlichkeit! (Kompetenzschule)
DESCRIPTION:Im Abschluss-Workshop haben Sie die Möglichkeit\, Ihre Lernerfahrungen auszutauschen. Da Führungspersönlichkeit sich nicht allein auf den Berufsalltag beschränkt\, haben Sie im Anschluss die Möglichkeit\, an einem Business-Knigge-Training teilzunehmen.\nOnline-Anmeldung auf Homepage
ORGANIZER:MAILTO:carlo.klauth@verwaltung.tu-chemnitz.de
UID:14096@www.tu-chemnitz.de
CREATED:20120404T144400Z
DTSTAMP:20210802T192223Z
END:VEVENT
END:VCALENDAR
