BEGIN:VCALENDAR
VERSION:2.0
PRODID:TU Chemnitz
METHOD:PUBLISH
X-WR-CALNAME:Veranstaltungen der TU Chemnitz
X-WR-TIMEZONE:Europe/Berlin
BEGIN:VEVENT
CLASS:PUBLIC
DTSTART;TZID="Europe/Berlin":20120508T171500
DTEND;TZID="Europe/Berlin":20120508T184500
LOCATION:Wilhelm-Raabe-Str. 43\, Chemnitz
SUMMARY:Institutskolloquium Psychologie (Fakultät für Human- und Sozialwissenschaften\, Institut für Psychologie)
DESCRIPTION:"Begabungsförderung und Schulleistungsentwicklung"\nProf. em. Dr. Kurt A. Heller\, LMU München\nSabine Dittrich\, 36313
ORGANIZER:MAILTO:sabine.dittrich@psychologie.tu-chemnitz.de
UID:14093@www.tu-chemnitz.de
CREATED:20120404T125700Z
DTSTAMP:20210802T192348Z
END:VEVENT
END:VCALENDAR
