BEGIN:VCALENDAR
VERSION:2.0
PRODID:TU Chemnitz
METHOD:PUBLISH
X-WR-CALNAME:Veranstaltungen der TU Chemnitz
X-WR-TIMEZONE:Europe/Berlin
BEGIN:VEVENT
CLASS:PUBLIC
DTSTART;TZID="Europe/Berlin":20001216T160000
DTEND;TZID="Europe/Berlin":20001216T180000
LOCATION:Schloss Hinterglauchau
SUMMARY:Konzert des Universitätschores (TU Chemnitz\, Universitätschor)
DESCRIPTION:Der Universitätschor singt ein Konzert zur Adventszeit\nProf. C. Seibt HA 6376
ORGANIZER:MAILTO:conrad.seibt@phil.tu-chemnitz.de
UID:1409@www.tu-chemnitz.de
CREATED:20001107T161700Z
DTSTAMP:20210802T202837Z
END:VEVENT
END:VCALENDAR
