BEGIN:VCALENDAR
VERSION:2.0
PRODID:TU Chemnitz
METHOD:PUBLISH
X-WR-CALNAME:Veranstaltungen der TU Chemnitz
X-WR-TIMEZONE:Europe/Berlin
BEGIN:VEVENT
CLASS:PUBLIC
DTSTART;TZID="Europe/Berlin":20001202T190000
DTEND;TZID="Europe/Berlin":20001202T210000
LOCATION:Kirche zu Teuchern
SUMMARY:Konzert des Universitätschores der TU (TU Chemnitz\, Universitätschor)
DESCRIPTION:Der Universitätschor singt ein Konzert zur Adventszeit\nProf. Seibt HA 6376
ORGANIZER:MAILTO:conrad.seibt@phil.tu-chemnitz.de
UID:1408@www.tu-chemnitz.de
CREATED:20001107T161200Z
DTSTAMP:20210802T202836Z
END:VEVENT
END:VCALENDAR
