BEGIN:VCALENDAR
VERSION:2.0
PRODID:TU Chemnitz
METHOD:PUBLISH
X-WR-CALNAME:Veranstaltungen der TU Chemnitz
X-WR-TIMEZONE:Europe/Berlin
BEGIN:VEVENT
CLASS:PUBLIC
DTSTART;TZID="Europe/Berlin":20120427T180000
DTEND;TZID="Europe/Berlin":20120428T020000
LOCATION:Reichenhainer Str. 55\, Chemnitz (Mensa)
SUMMARY:8. Chemnitzer Spielenacht (Studentenrat)
DESCRIPTION:Mit etwas Verpätung startet nun endlich die 8. Chemnitzer Spielenacht.- Spieleverleih (gegen Ausweispfand)- Turniere- und und und\nwww.spielenacht.de
ORGANIZER:MAILTO:winfried.leister@s2005.tu-chemnitz.de
UID:14077@www.tu-chemnitz.de
CREATED:20120330T161700Z
DTSTAMP:20210802T192423Z
END:VEVENT
END:VCALENDAR
