BEGIN:VCALENDAR
VERSION:2.0
PRODID:TU Chemnitz
METHOD:PUBLISH
X-WR-CALNAME:Veranstaltungen der TU Chemnitz
X-WR-TIMEZONE:Europe/Berlin
BEGIN:VEVENT
CLASS:PUBLIC
DTSTART;TZID="Europe/Berlin":20001109T190000
DTEND;TZID="Europe/Berlin":20001109T210000
LOCATION:Uni-Teil 3: Reichenhainer Str. 70\, Chemnitz (Zentr. Hörsaal- und Seminargebäude)
SUMMARY:Infoabend Auslandspraktikum/ Auslandsstudium
DESCRIPTION:AIESEC\, das Auslandsamt und Prof. Lang (im Rahmen des Austauschrogrammes SOKRATES) informieren über Auslandspraktika und Auslandstudium für Studenten mit wirtschaftlicher Studienausrichtung und Informatiker.\nAIESEC Chemnitz\, Prof. Lang\, Frau Lorenz
ORGANIZER:MAILTO:schrm@hrz.tu-chemnitz.de
UID:1406@www.tu-chemnitz.de
CREATED:20001107T130600Z
DTSTAMP:20210802T202850Z
END:VEVENT
END:VCALENDAR
