BEGIN:VCALENDAR
VERSION:2.0
PRODID:TU Chemnitz
METHOD:PUBLISH
X-WR-CALNAME:Veranstaltungen der TU Chemnitz
X-WR-TIMEZONE:Europe/Berlin
BEGIN:VEVENT
CLASS:PUBLIC
DTSTART;TZID="Europe/Berlin":20120402T140000
DTEND;TZID="Europe/Berlin":20120402T170000
LOCATION:Mercure Hotel Kongress Chemnitz
SUMMARY:COMSOL Multiphysics WORKSHOP (Comsol Multiphysics GmbH)
DESCRIPTION:In diesem einführenden Workshop zeigen wir Ihnen die Modellierung mit COMSOL Multiphysics\, stellen Ihnen aktuelle Anwendungsbeispiele vor und geben Ihnen Anregungen für Ihre eigenen Projekte. Die Teilnahme an unseren Workshops ist kostenfrei.\nFabian Scheuren \nSusanne Stitz\, Tel: 0551-99721-120\, susanne.stitz@comsol.de
ORGANIZER:MAILTO:matthias.hackert@mb.tu-chemnitz.de
UID:14057@www.tu-chemnitz.de
CREATED:20120321T112000Z
DTSTAMP:20210802T192416Z
END:VEVENT
END:VCALENDAR
