BEGIN:VCALENDAR
VERSION:2.0
PRODID:TU Chemnitz
METHOD:PUBLISH
X-WR-CALNAME:Veranstaltungen der TU Chemnitz
X-WR-TIMEZONE:Europe/Berlin
BEGIN:VEVENT
CLASS:PUBLIC
DTSTART;TZID="Europe/Berlin":20120319T171500
DTEND;TZID="Europe/Berlin":20120319T190000
LOCATION:Reichenhainer Str. 70\, Chemnitz (Rühlmann-Bau)
SUMMARY:Audits – Risiken reduzieren und Chancen erkennen (DGQ e.V.\, Regionalkreis Chemnitz)
DESCRIPTION:Erfahren Sie in diesem Vortrag\, wie eine strukturierte Systemlösung ein unternehmensweites Audit-Management unterstützt.\nChristian Rech\, BBR Unternehmensberatung GmbH und Kevin Kühn\, IBS AG\nJuliane Schuldt\, 0371 531 37713\, juliane.schuldt@mb.tu-chemnitz.de
ORGANIZER:MAILTO:juliane.schuldt@mb.tu-chemnitz.de
UID:14047@www.tu-chemnitz.de
CREATED:20120315T135900Z
DTSTAMP:20210802T192440Z
END:VEVENT
END:VCALENDAR
