BEGIN:VCALENDAR
VERSION:2.0
PRODID:TU Chemnitz
METHOD:PUBLISH
X-WR-CALNAME:Veranstaltungen der TU Chemnitz
X-WR-TIMEZONE:Europe/Berlin
BEGIN:VEVENT
CLASS:PUBLIC
DTSTART;TZID="Europe/Berlin":20001128T130000
DTEND;TZID="Europe/Berlin":20001128T143000
LOCATION:Uni-Teil 1: Str. der Nationen 62\, Chemnitz (Böttcher-Bau)
SUMMARY:Application of Moiré Method in Fracture Mechanics (Fakultät für Maschinenbau und Verfahrenstechnik)
DESCRIPTION:Vortrag im Rahmen des DFG-SFB 283 \n"Prozeßketten der Massivumformung unter Aspekten \nder Produktivität und Umweltverträglichkeit"\nProf. Ing. CSc. František Plánicka\, University of West Bohemia\, Faculty of Mechanical Engineering\, Plzen\, Czech Republic
ORGANIZER:MAILTO:fpz@hrz.tu-chemnitz.de
UID:1404@www.tu-chemnitz.de
CREATED:20001107T084400Z
DTSTAMP:20210802T202846Z
END:VEVENT
END:VCALENDAR
