BEGIN:VCALENDAR
VERSION:2.0
PRODID:TU Chemnitz
METHOD:PUBLISH
X-WR-CALNAME:Veranstaltungen der TU Chemnitz
X-WR-TIMEZONE:Europe/Berlin
BEGIN:VEVENT
CLASS:PUBLIC
DTSTART;TZID="Europe/Berlin":20120309T210000
DTEND;TZID="Europe/Berlin":20120309T230000
LOCATION:Kino\, Reichenhainer Str. 35/37\, Keller
SUMMARY:[Campuskino * "mittendrin"] Ziemlich beste Freunde (filmclub »mittendrin«)
DESCRIPTION:Philippe ist adelig\, hat Geld wie Heu\, Scharen von Bediensteten\, aber einen Haken hat die Sache - er ist querschnittsgelähmt und auf die Hilfe eines Pflegers angewiesen. Hier kommt Driss ins Spiel\, charmantes Großmaul aus der Vorstadt...\nfilmclub@tu-chemnitz.de
ORGANIZER:MAILTO:robert.gerstenberger@s2004.tu-chemnitz.de
UID:14007@www.tu-chemnitz.de
CREATED:20120302T022200Z
DTSTAMP:20210802T192445Z
END:VEVENT
END:VCALENDAR
