BEGIN:VCALENDAR
VERSION:2.0
PRODID:TU Chemnitz
METHOD:PUBLISH
X-WR-CALNAME:Veranstaltungen der TU Chemnitz
X-WR-TIMEZONE:Europe/Berlin
BEGIN:VEVENT
CLASS:PUBLIC
DTSTART;TZID="Europe/Berlin":20120510T153000
DTEND;TZID="Europe/Berlin":20120510T180000
LOCATION:Str. der Nationen 62\, Chemnitz (Böttcher-Bau)
SUMMARY:GDCh-Vortrag: "Heterogen katalysierte Selektivoxidationen in Nanoporen: Alter Wein in neuen Schläuchen?" (Fakultät für Naturwissenschaften\, Institut für Chemie zusammen mit der Gesellschaft Deutscher Chemiker (GDCh))
DESCRIPTION:Prof. Dr. Roger Gläser\, Universität Leipzig\, Institut für Technische Chemie\, Arbeitskreis Heterogene Katalyse\nProf. Dr. Heinrich Lang\, Tel.: 0371/531-21210\, Email: heinrich.lang@chemie.tu-chemnitz.de
ORGANIZER:MAILTO:natalia.rueffer@chemie.tu-chemnitz.de
UID:13988@www.tu-chemnitz.de
CREATED:20120214T104400Z
DTSTAMP:20210802T192350Z
END:VEVENT
END:VCALENDAR
