BEGIN:VCALENDAR
VERSION:2.0
PRODID:TU Chemnitz
METHOD:PUBLISH
X-WR-CALNAME:Veranstaltungen der TU Chemnitz
X-WR-TIMEZONE:Europe/Berlin
BEGIN:VEVENT
CLASS:PUBLIC
DTSTART;TZID="Europe/Berlin":20121206T100000
DTEND;TZID="Europe/Berlin":20121206T160000
LOCATION:Reichenhainer Str. 90\, Chemnitz (Zentr. Hörsaal- und Seminargebäude)
SUMMARY:Chem Con 2012 (Chemnitz Contact e.V.)
DESCRIPTION:Die Chem Con 2012 ist ein Firmenkontaktforum. Hier bieten wir den Studenten und Absolventen eine Vielzahl an Messeständen von Unternehmen\, sowie spannende Vorträge\, professionelle Karriereberatung\, Bewerbungsmappencheck und perfekte Bewerbungsbilder.\nKostenlose Teilnahme
ORGANIZER:MAILTO:andre.kawelke@s2006.tu-chemnitz.de
UID:13973@www.tu-chemnitz.de
CREATED:20120201T020100Z
DTSTAMP:20210802T191953Z
END:VEVENT
END:VCALENDAR
