BEGIN:VCALENDAR
VERSION:2.0
PRODID:TU Chemnitz
METHOD:PUBLISH
X-WR-CALNAME:Veranstaltungen der TU Chemnitz
X-WR-TIMEZONE:Europe/Berlin
BEGIN:VEVENT
CLASS:PUBLIC
DTSTART;VALUE=DATE:20120630
DTEND;VALUE=DATE:20120701
LOCATION:Richard-Hartmann-Halle Chemnitz
SUMMARY:Deutsche Hochschulmeisterschaften - Volleyball  (Studentenrat)
DESCRIPTION:Allgemeine Deutsche Hochschulmeisterschaften der Damen und Herren im Volleyball mit großem Rahmenprogramm!\nhttps://www.facebook.com/pages/Deutsche-Hochschulmeisterschaft-2012-Volleyball/140756432707174
ORGANIZER:MAILTO:manuel-jan-christoph.schiller@s2011.tu-chemnitz.de
UID:13971@www.tu-chemnitz.de
CREATED:20120131T152600Z
DTSTAMP:20210802T192304Z
END:VEVENT
END:VCALENDAR
