BEGIN:VCALENDAR
VERSION:2.0
PRODID:TU Chemnitz
METHOD:PUBLISH
X-WR-CALNAME:Veranstaltungen der TU Chemnitz
X-WR-TIMEZONE:Europe/Berlin
BEGIN:VEVENT
CLASS:PUBLIC
DTSTART;VALUE=DATE:20120618
DTEND;VALUE=DATE:20120622
LOCATION:Messegelände Frankfurt am Main\, Halle 9.2\, Stand B84
SUMMARY:ACEMEMA (Fakultät für Maschinenbau\, ESF-Nachwuchsforschergruppe "TranS-Ver")
DESCRIPTION:Präsentation des Exponates "Funktionale C-Faser für intelligente Leichtbauanwendungen"\nM. Trautmann\, 0371/531-38846
ORGANIZER:MAILTO:rainer.kittig@verwaltung.tu-chemnitz.de
UID:13970@www.tu-chemnitz.de
CREATED:20120130T091400Z
DTSTAMP:20210802T192300Z
END:VEVENT
END:VCALENDAR
