BEGIN:VCALENDAR
VERSION:2.0
PRODID:TU Chemnitz
METHOD:PUBLISH
X-WR-CALNAME:Veranstaltungen der TU Chemnitz
X-WR-TIMEZONE:Europe/Berlin
BEGIN:VEVENT
CLASS:PUBLIC
DTSTART;TZID="Europe/Berlin":20120216T210000
DTEND;TZID="Europe/Berlin":20120216T230000
LOCATION:Kino\, Reichenhainer Str. 35/37\, Keller
SUMMARY:[Campuskino * "mittendrin"] Ich reise allein (filmclub »mittendrin«)
DESCRIPTION:Jarle ist nebenbei Student - meistens hängt er auf Partys oder in fremden Betten rum. Bis ihm eines Tages ein alter One Night Stand seine siebenjährige Tochter präsentiert\, mit der Anordnung auf die Kleine aufzupassen\, bis Mutti aus dem Urlaub zurück ist.\nfilmclub@tu-chemnitz.de
ORGANIZER:MAILTO:robert.gerstenberger@s2004.tu-chemnitz.de
UID:13969@www.tu-chemnitz.de
CREATED:20120127T165800Z
DTSTAMP:20210802T192454Z
END:VEVENT
END:VCALENDAR
