BEGIN:VCALENDAR
VERSION:2.0
PRODID:TU Chemnitz
METHOD:PUBLISH
X-WR-CALNAME:Veranstaltungen der TU Chemnitz
X-WR-TIMEZONE:Europe/Berlin
BEGIN:VEVENT
CLASS:PUBLIC
DTSTART;TZID="Europe/Berlin":20120221T210000
DTEND;TZID="Europe/Berlin":20120221T230000
LOCATION:Kino\, Reichenhainer Str. 35/37\, Keller
SUMMARY:[Campuskino * "mittendrin"] Chinese zum Mitnehmen (filmclub »mittendrin«)
DESCRIPTION:Ein nörgeliger Misanthrop trifft auf einen mittellosen (weil ausgeraubten) Chinesen. Eine herrlich warmherzige Komödie gegen die Einsamkeit.\nfilmclub@tu-chemnitz.de
ORGANIZER:MAILTO:robert.gerstenberger@s2004.tu-chemnitz.de
UID:13968@www.tu-chemnitz.de
CREATED:20120127T165800Z
DTSTAMP:20210802T192453Z
END:VEVENT
END:VCALENDAR
