BEGIN:VCALENDAR
VERSION:2.0
PRODID:TU Chemnitz
METHOD:PUBLISH
X-WR-CALNAME:Veranstaltungen der TU Chemnitz
X-WR-TIMEZONE:Europe/Berlin
BEGIN:VEVENT
CLASS:PUBLIC
DTSTART;TZID="Europe/Berlin":20120125T171500
DTEND;TZID="Europe/Berlin":20120125T171500
LOCATION:Reichenhainer Str. 90\, Chemnitz (Zentr. Hörsaal- und Seminargebäude)
SUMMARY:Physikalisches Kolloquium (Fakultät für Naturwissenschaften\, Institut für Physik)
DESCRIPTION:Thema: "Dynamics of active emulsions"\nProf. Dr. Stephan Herminghaus (Universität Göttingen)\nProf. Dr. Peter Häussler
ORGANIZER:MAILTO:feige@physik.tu-chemnitz.de
UID:13953@www.tu-chemnitz.de
CREATED:20120119T114200Z
DTSTAMP:20210802T192505Z
END:VEVENT
END:VCALENDAR
