BEGIN:VCALENDAR
VERSION:2.0
PRODID:TU Chemnitz
METHOD:PUBLISH
X-WR-CALNAME:Veranstaltungen der TU Chemnitz
X-WR-TIMEZONE:Europe/Berlin
BEGIN:VEVENT
CLASS:PUBLIC
DTSTART;TZID="Europe/Berlin":20120110T100000
DTEND;TZID="Europe/Berlin":20120110T160000
LOCATION:Str. der Nationen 62\, Chemnitz (Böttcher-Bau)
SUMMARY:KKK - Kaffee\, Kuchen & Kemie (Fachschaftsrat Chemie)
DESCRIPTION:Beim Genuss des schwarzen Heißgetränks und leckerer Kuchen bietet sich die Gelegenheit für einen lockeren Plausch untereinander und Entspannung in der Pausenzeit.\nfsr-chemie@tu-chemnitz.de
ORGANIZER:MAILTO:georg.teucher@s2007.tu-chemnitz.de
UID:13911@www.tu-chemnitz.de
CREATED:20111227T211000Z
DTSTAMP:20210802T192504Z
END:VEVENT
END:VCALENDAR
