BEGIN:VCALENDAR
VERSION:2.0
PRODID:TU Chemnitz
METHOD:PUBLISH
X-WR-CALNAME:Veranstaltungen der TU Chemnitz
X-WR-TIMEZONE:Europe/Berlin
BEGIN:VEVENT
CLASS:PUBLIC
DTSTART;TZID="Europe/Berlin":20120131T210000
DTEND;TZID="Europe/Berlin":20120131T230000
LOCATION:Kino\, Reichenhainer Str. 35/37\, Keller
SUMMARY:[Campuskino * "mittendrin"] Habemus Papam - Ein Papst büxt aus (filmclub »mittendrin«)
DESCRIPTION:Glocken läuten\, Jubel\, es gibt wieder einen Papst! Aber Kardinal Melville reagiert panisch: er will den Job gar nicht. Viel zu groß sind seine Zweifel\, er hält sich für ungeeignet\, Gottes unfehlbarer Vertreter auf Erden zu sein\, und haut einfach ab!\nfilmclub@tu-chemnitz.de
ORGANIZER:MAILTO:robert.gerstenberger@s2004.tu-chemnitz.de
UID:13910@www.tu-chemnitz.de
CREATED:20111224T000300Z
DTSTAMP:20210802T192508Z
END:VEVENT
END:VCALENDAR
