BEGIN:VCALENDAR
VERSION:2.0
PRODID:TU Chemnitz
METHOD:PUBLISH
X-WR-CALNAME:Veranstaltungen der TU Chemnitz
X-WR-TIMEZONE:Europe/Berlin
BEGIN:VEVENT
CLASS:PUBLIC
DTSTART;TZID="Europe/Berlin":20010104T183000
DTEND;TZID="Europe/Berlin":20010104T200000
LOCATION:Uni-Teil 3: Reichenhainer Str. 70\, Chemnitz (Zentr. Hörsaal- und Seminargebäude)
SUMMARY:Zur politischen Ikonographie moderner Parlamente (Kolloquium: Neuere Forschungen auf dem Gebiet der Wirtschafts- u. Sozialgeschichte u. d. Geschichte des Mittelalters)
DESCRIPTION:Die Veranstaltung ist öffentlich. Studenten des Grund- und Hauptstudiums sind herzlich eingeladen.\nDr. Marion Müller (Universität Hamburg)\neva.pietsch@phil.tu-chemnitz.de
ORGANIZER:MAILTO:pev@hrz.tu-chemnitz.de
UID:1391@www.tu-chemnitz.de
CREATED:20001101T172800Z
DTSTAMP:20210802T202823Z
END:VEVENT
END:VCALENDAR
