BEGIN:VCALENDAR
VERSION:2.0
PRODID:TU Chemnitz
METHOD:PUBLISH
X-WR-CALNAME:Veranstaltungen der TU Chemnitz
X-WR-TIMEZONE:Europe/Berlin
BEGIN:VEVENT
CLASS:PUBLIC
DTSTART;TZID="Europe/Berlin":20111216T134500
DTEND;TZID="Europe/Berlin":20111216T150000
LOCATION:Str. der Nationen 62\, Chemnitz (Böttcher-Bau)
SUMMARY:"HW/SW Codesign für effiziente bitstromorientierte Datenverarbeitung eingebetteter Systeme"  (Fakultät für Informatik)
DESCRIPTION:Herr Reimund Klemm (RadioOpt GmbH)\nKeine Anmeldung erforderlich.
ORGANIZER:MAILTO:mandy.olzscher@informatik.tu-chemnitz.de
UID:13892@www.tu-chemnitz.de
CREATED:20111214T104900Z
DTSTAMP:20210802T192524Z
END:VEVENT
END:VCALENDAR
