BEGIN:VCALENDAR
VERSION:2.0
PRODID:TU Chemnitz
METHOD:PUBLISH
X-WR-CALNAME:Veranstaltungen der TU Chemnitz
X-WR-TIMEZONE:Europe/Berlin
BEGIN:VEVENT
CLASS:PUBLIC
DTSTART;TZID="Europe/Berlin":20120111T200000
DTEND;TZID="Europe/Berlin":20120111T220000
LOCATION:Weltecho\, Café
SUMMARY:Wissensbilder - Ein Diskussionsabend über Möglichkeiten und Grenzen sozialwissenschaftlicher Bildanalyse (Fakultät für Human- und Sozialwissenschaften)
DESCRIPTION:Am Diskussionsabend sollen Möglichkeiten und Grenzen sozialwissenschaftlicher Bildanalyse innerhalb des Projektes "Wissensbilder" beleuchtet werden. Informationen zum Projekt können unter www.projekt-wissensbilder.de abgerufen werden.\nAnja Weller und Julien Bucher\nDer Eintritt ist frei
ORGANIZER:MAILTO:anja.weller@phil.tu-chemnitz.de
UID:13890@www.tu-chemnitz.de
CREATED:20111213T151000Z
DTSTAMP:20210802T192504Z
END:VEVENT
END:VCALENDAR
