BEGIN:VCALENDAR
VERSION:2.0
PRODID:TU Chemnitz
METHOD:PUBLISH
X-WR-CALNAME:Veranstaltungen der TU Chemnitz
X-WR-TIMEZONE:Europe/Berlin
BEGIN:VEVENT
CLASS:PUBLIC
DTSTART;TZID="Europe/Berlin":20111215T153000
DTEND;TZID="Europe/Berlin":20111215T170000
LOCATION:Reichenhainer Str. 90\, Chemnitz (Zentr. Hörsaal- und Seminargebäude)
SUMMARY:Weihnachtsvorlesung: Without Geometry life would be pointless (Fakultät für Mathematik)
DESCRIPTION:Anhand zahlreicher Beispiele aus verschiedenen Teilgebieten der Geometrie sollen "typische Situationen"\, die wir lernend\, lehrend und forschend im Umgang mit der Mathematik vorfinden\, reflektiert werden.\nRückfragen: 0371/531 34124\, keine Anmeldung nötig
ORGANIZER:MAILTO:frank.goering@mathematik.tu-chemnitz.de
UID:13863@www.tu-chemnitz.de
CREATED:20111125T094100Z
DTSTAMP:20210802T192519Z
END:VEVENT
END:VCALENDAR
