BEGIN:VCALENDAR
VERSION:2.0
PRODID:TU Chemnitz
METHOD:PUBLISH
X-WR-CALNAME:Veranstaltungen der TU Chemnitz
X-WR-TIMEZONE:Europe/Berlin
BEGIN:VEVENT
CLASS:PUBLIC
DTSTART;TZID="Europe/Berlin":20120126T093000
DTEND;TZID="Europe/Berlin":20120126T170000
LOCATION:Stadthalle Chemnitz\, Kleiner Saal
SUMMARY:10. Sächsisches Bautextilien-Symposium „BAUTEX 2012“ (Sächsisches Textilforschungsinstitut e. V. (STFI))
DESCRIPTION:Das nunmehr 10. Sächsische Bautextilien-Symposium widmet sich der Anwendung von Geokunststoffen. In Vorträgen und einer begleitenden Ausstellung werden Produkte und beispielhafte Bauweisen vorgestellt.\nhttp://www.bautex.org\nDr. Matthias Mägel (Tel.: 0371 52 74-1 72\, matthias.maegel@stfi.de)
ORGANIZER:MAILTO:stephanie.kraemer@verwaltung.tu-chemnitz.de
UID:13862@www.tu-chemnitz.de
CREATED:20111124T145800Z
DTSTAMP:20210802T192508Z
END:VEVENT
END:VCALENDAR
