BEGIN:VCALENDAR
VERSION:2.0
PRODID:TU Chemnitz
METHOD:PUBLISH
X-WR-CALNAME:Veranstaltungen der TU Chemnitz
X-WR-TIMEZONE:Europe/Berlin
BEGIN:VEVENT
CLASS:PUBLIC
DTSTART;TZID="Europe/Berlin":20111203T193000
DTEND;TZID="Europe/Berlin":20111203T210000
LOCATION:Kirche St. Jakobi am Markt
SUMMARY:Konzert des Universitätschores (TU Chemnitz\, Universitätschor)
DESCRIPTION:Der Universitätschor singt in der Jakobivesper deutsche und internationale Advents- und Weihnachtslieder. Dazu erklingen Werke für die Orgel.\nkatharina.poeschel@mb.tu-chemnitz.de
ORGANIZER:MAILTO:conrad.seibt@phil.tu-chemnitz.de
UID:13851@www.tu-chemnitz.de
CREATED:20111122T160600Z
DTSTAMP:20210802T192520Z
END:VEVENT
END:VCALENDAR
