BEGIN:VCALENDAR
VERSION:2.0
PRODID:TU Chemnitz
METHOD:PUBLISH
X-WR-CALNAME:Veranstaltungen der TU Chemnitz
X-WR-TIMEZONE:Europe/Berlin
BEGIN:VEVENT
CLASS:PUBLIC
DTSTART;TZID="Europe/Berlin":20001129T180000
DTEND;TZID="Europe/Berlin":20001129T193000
LOCATION:Uni-Teil 3: Reichenhainer Str. 70\, Chemnitz (Zentr. Hörsaal- und Seminargebäude)
SUMMARY:Finanzielle Autonomie der Berufsschulen (Philosophische Fakultät\, Praktikumsamt)
DESCRIPTION:Tammo Hinrichs\, Schulleiter am Beruflichen Schulzentrum Bremen\nkarla.kebsch@phil.tu-chemnitz.de
ORGANIZER:MAILTO:keka@hrz.tu-chemnitz.de
UID:1385@www.tu-chemnitz.de
CREATED:20001030T123000Z
DTSTAMP:20210802T202848Z
END:VEVENT
END:VCALENDAR
