BEGIN:VCALENDAR
VERSION:2.0
PRODID:TU Chemnitz
METHOD:PUBLISH
X-WR-CALNAME:Veranstaltungen der TU Chemnitz
X-WR-TIMEZONE:Europe/Berlin
BEGIN:VEVENT
CLASS:PUBLIC
DTSTART;TZID="Europe/Berlin":20111201T210000
DTEND;TZID="Europe/Berlin":20111201T230000
LOCATION:Kino\, Reichenhainer Str. 35/37\, Keller
SUMMARY:[Campuskino * "mittendrin"] Restless (filmclub »mittendrin«)
DESCRIPTION:Zart aber schmerzlich. Gus Van Sants ("Milk"\, "Good Will Hunting") neustes Werk: ein ungewöhnliches Liebesdrama um eine Todkranke und einen geistersehenden Todessüchtigen.\nfilmclub@tu-chemnitz.de
ORGANIZER:MAILTO:robert.gerstenberger@s2004.tu-chemnitz.de
UID:13845@www.tu-chemnitz.de
CREATED:20111121T163900Z
DTSTAMP:20210802T192517Z
END:VEVENT
END:VCALENDAR
