BEGIN:VCALENDAR
VERSION:2.0
PRODID:TU Chemnitz
METHOD:PUBLISH
X-WR-CALNAME:Veranstaltungen der TU Chemnitz
X-WR-TIMEZONE:Europe/Berlin
BEGIN:VEVENT
CLASS:PUBLIC
DTSTART;TZID="Europe/Berlin":20111208T171500
DTEND;TZID="Europe/Berlin":20111208T184500
LOCATION:Erfenschlager Str. 73\, Chemnitz
SUMMARY:Filmabend zu Menschenrechten (Philosophische Fakultät\, Professur für politische Theorie und Ideengeschichte)
DESCRIPTION:Filmabend im Rahmen des Seminars "Zur rechtsphilosophischen Diskussion um Menschenrechte im Anschluss an Kant" - gezeigt werden acht in der Kategorie "Amateurfilm" nominierte Kurzfilme zum Deutschen Menschenrechtsfilmpreis 2010\nellen.thuemmler@phil.tu-chemnitz.de
ORGANIZER:MAILTO:ellen.thuemmler@phil.tu-chemnitz.de
UID:13844@www.tu-chemnitz.de
CREATED:20111121T150600Z
DTSTAMP:20210802T192525Z
END:VEVENT
END:VCALENDAR
