BEGIN:VCALENDAR
VERSION:2.0
PRODID:TU Chemnitz
METHOD:PUBLISH
X-WR-CALNAME:Veranstaltungen der TU Chemnitz
X-WR-TIMEZONE:Europe/Berlin
BEGIN:VEVENT
CLASS:PUBLIC
DTSTART;TZID="Europe/Berlin":20111125T203000
DTEND;TZID="Europe/Berlin":20111126T010000
LOCATION:Thüringer Weg 3\, Club der Kulturen
SUMMARY:Tschechisch.Slowakische Willkommensparty (Tschechisch-Slowakisch-Club)
DESCRIPTION:Ahoj und herzlich willkommen in Chemnitz! Wir begrüßen alle tschechischen und slowakischen Studenten und wollen unser Zusammentreffen gebührend feiern.:-)\nwww.club-der-kulturen.de/\, kulturen@tu-chemnitz.de
ORGANIZER:MAILTO:antonia.peters@s2009.tu-chemnitz.de
UID:13843@www.tu-chemnitz.de
CREATED:20111120T153500Z
DTSTAMP:20210802T192547Z
END:VEVENT
END:VCALENDAR
