BEGIN:VCALENDAR
VERSION:2.0
PRODID:TU Chemnitz
METHOD:PUBLISH
X-WR-CALNAME:Veranstaltungen der TU Chemnitz
X-WR-TIMEZONE:Europe/Berlin
BEGIN:VEVENT
CLASS:PUBLIC
DTSTART;TZID="Europe/Berlin":20111124T153000
DTEND;TZID="Europe/Berlin":20111124T170000
LOCATION:Reichenhainer Str. 90\, Chemnitz (Zentr. Hörsaal- und Seminargebäude)
SUMMARY:Kerntechnik nach Fukushima. Branche ohne Zukunft? (Fakultät für Naturwissenschaften\, Institut für Physik\, Professur "Analytik an Festkörperoberflächen")
DESCRIPTION:Deutschlands Energiewende - Hintergründe und Aussichten\nDr.-Ing. Thomas Behringer\, Geschäftsführer Wirtschaftsverband Kernbrennstoff-Kreislauf und Kerntechnik e.V. (WKK)\nProf. Dr. Michael Hietschold\, 0371/531/33203\, hietschold@physik.tu-chemnitz.de
ORGANIZER:MAILTO:ute.vales@physik.tu-chemnitz.de
UID:13839@www.tu-chemnitz.de
CREATED:20111117T114300Z
DTSTAMP:20210802T192554Z
END:VEVENT
END:VCALENDAR
