BEGIN:VCALENDAR
VERSION:2.0
PRODID:TU Chemnitz
METHOD:PUBLISH
X-WR-CALNAME:Veranstaltungen der TU Chemnitz
X-WR-TIMEZONE:Europe/Berlin
BEGIN:VEVENT
CLASS:PUBLIC
DTSTART;TZID="Europe/Berlin":20111121T190000
DTEND;TZID="Europe/Berlin":20111121T210000
LOCATION:Reichenhainer Str. 90\, Chemnitz (Zentr. Hörsaal- und Seminargebäude)
SUMMARY:Aus Chemnitz in die Welt - mit einem (Auslands)Praktikum (Philosophische Fakultät\, Initiative Europastudien)
DESCRIPTION:EuropastudentInnen erzählen von ihren Erfahrungen beim (Auslands-)Praktikum und allgemeine Informationen und Tipps werden gegeben.\nEuropastudentinnen\nKristin Sandfort\, kristin.sandfort@s2009.tu-chemnitz.de
ORGANIZER:MAILTO:kristin.sandfort@s2009.tu-chemnitz.de
UID:13835@www.tu-chemnitz.de
CREATED:20111114T224600Z
DTSTAMP:20210802T192547Z
END:VEVENT
END:VCALENDAR
