BEGIN:VCALENDAR
VERSION:2.0
PRODID:TU Chemnitz
METHOD:PUBLISH
X-WR-CALNAME:Veranstaltungen der TU Chemnitz
X-WR-TIMEZONE:Europe/Berlin
BEGIN:VEVENT
CLASS:PUBLIC
DTSTART;TZID="Europe/Berlin":20111115T140000
DTEND;TZID="Europe/Berlin":20111115T160000
LOCATION:Str. der Nationen 62\, Chemnitz (Böttcher-Bau)
SUMMARY:Informatik-Kolloquium (Fakultät für Informatik\, Professur Theoretische Informatik)
DESCRIPTION:Vortrag zum Thema: "Das Lovász Local Lemma für SAT"\nDr. Jochen Messner\, Hochschule Aalen \ndekanat@informatik.tu-chemnitz.de
ORGANIZER:MAILTO:ulrike.luthe@informatik.tu-chemnitz.de
UID:13824@www.tu-chemnitz.de
CREATED:20111109T125400Z
DTSTAMP:20210802T192553Z
END:VEVENT
END:VCALENDAR
