BEGIN:VCALENDAR
VERSION:2.0
PRODID:TU Chemnitz
METHOD:PUBLISH
X-WR-CALNAME:Veranstaltungen der TU Chemnitz
X-WR-TIMEZONE:Europe/Berlin
BEGIN:VEVENT
CLASS:PUBLIC
DTSTART;TZID="Europe/Berlin":20111210T100000
DTEND;TZID="Europe/Berlin":20111210T100000
LOCATION:Reichenhainer Str. 90\, Chemnitz (Zentr. Hörsaal- und Seminargebäude)
SUMMARY:LASER - Geschichte\, Anwendungen und Ausblick (Fakultät für Naturwissenschaften\, Institut für Physik)
DESCRIPTION:Prof. Huber stellt die Funktionsweise des LASERs\, einen Abriss der Geschichte und heutige Anwendungen vor. Im Anschluss erläutert Prof. Bratschitsch\, welche Forschungsfragen mit LASERn am Institut für Physik der TU Chemnitz untersucht werden.\nProf. Dr. Günter Huber\, Institut für Laserphysik der Universität Hamburg\nDr. S. Seeger\, +49-531-33279\, seeger@physik.tu-chemnitz.de
ORGANIZER:MAILTO:s.seeger@physik.tu-chemnitz.de
UID:13805@www.tu-chemnitz.de
CREATED:20111101T105300Z
DTSTAMP:20210802T192521Z
END:VEVENT
END:VCALENDAR
