BEGIN:VCALENDAR
VERSION:2.0
PRODID:TU Chemnitz
METHOD:PUBLISH
X-WR-CALNAME:Veranstaltungen der TU Chemnitz
X-WR-TIMEZONE:Europe/Berlin
BEGIN:VEVENT
CLASS:PUBLIC
DTSTART;TZID="Europe/Berlin":20111110T171500
DTEND;TZID="Europe/Berlin":20111110T184500
LOCATION:Reichenhainer Str. 70\, Chemnitz (Weinhold-Bau)
SUMMARY:Von (halb)leeren Gläsern und Bindfadensammlungen. Das Sprechen der Dinge in der Literatur. (Philosophische Fakultät\, Romanische Kulturwissenschaft)
DESCRIPTION:Von (halb)leeren Gläsern und Bindfadensammlungen. Das Sprechen der Dinge in der Literatur.\nPD Dr. Kathrin van der Meer\nMartin Bauch\, 531-37677\, martin.bauch@phil.tu-chemnitz.de
ORGANIZER:MAILTO:martin.bauch@phil.tu-chemnitz.de
UID:13804@www.tu-chemnitz.de
CREATED:20111101T103100Z
DTSTAMP:20210802T192559Z
END:VEVENT
END:VCALENDAR
