BEGIN:VCALENDAR
VERSION:2.0
PRODID:TU Chemnitz
METHOD:PUBLISH
X-WR-CALNAME:Veranstaltungen der TU Chemnitz
X-WR-TIMEZONE:Europe/Berlin
BEGIN:VEVENT
CLASS:PUBLIC
DTSTART;TZID="Europe/Berlin":20111103T153000
DTEND;TZID="Europe/Berlin":20111103T170000
LOCATION:Reichenhainer Str. 90\, Chemnitz (Zentr. Hörsaal- und Seminargebäude)
SUMMARY:Elektromagnetische Verträglichkeit - Filterschaltungen und Filterauslegung (Fakultät für Elektrotechnik und Informationstechnik\, Elektrotechnisches Institut und Professur Hochfrequenztechnik und Theoretische Elektrotechnik)
DESCRIPTION:- Grundlagen der Kernmaterialien- Erkennen der Störstromarten- Filterschaltungen und ihre Wirkungsweise in Abhängigkeit von der Quellen- und Senkenimpedanz\nDipl. Ing. Andreas Temmler\, Würth Elektronik\njosef.lutz@etit.tu-chemnitz.de
ORGANIZER:MAILTO:eric.pertermann@etit.tu-chemnitz.de
UID:13788@www.tu-chemnitz.de
CREATED:20111028T075800Z
DTSTAMP:20210802T192551Z
END:VEVENT
END:VCALENDAR
