BEGIN:VCALENDAR
VERSION:2.0
PRODID:TU Chemnitz
METHOD:PUBLISH
X-WR-CALNAME:Veranstaltungen der TU Chemnitz
X-WR-TIMEZONE:Europe/Berlin
BEGIN:VEVENT
CLASS:PUBLIC
DTSTART;TZID="Europe/Berlin":20111115T080000
DTEND;TZID="Europe/Berlin":20111115T080000
LOCATION:Reichenhainer Str. 90\, Chemnitz (Zentr. Hörsaal- und Seminargebäude)
SUMMARY:Habilitation (Fakultät für Maschinenbau)
DESCRIPTION:Probevorlesung zum Thema: Kaltwasserspeicher - Vom Konzept zur Konstruktion"\nDr.-Ing. Thorsten Urbaneck\nkerstin.hensel@mb.tu-chemnitz.de
ORGANIZER:MAILTO:kerstin.hensel@mb.tu-chemnitz.de
UID:13783@www.tu-chemnitz.de
CREATED:20111025T093000Z
DTSTAMP:20210802T192551Z
END:VEVENT
END:VCALENDAR
