BEGIN:VCALENDAR
VERSION:2.0
PRODID:TU Chemnitz
METHOD:PUBLISH
X-WR-CALNAME:Veranstaltungen der TU Chemnitz
X-WR-TIMEZONE:Europe/Berlin
BEGIN:VEVENT
CLASS:PUBLIC
DTSTART;TZID="Europe/Berlin":20111209T140000
DTEND;TZID="Europe/Berlin":20111209T180000
LOCATION:Pegasus-Center\, Chemnitz
SUMMARY:Workshop: Steuerrecht für Existenzgründer (TU Chemnitz\, Gründernetzwerk SAXEED)
DESCRIPTION:Der zweite Tag dient als Aufbaukurs der Vermittlung bilanzsteuerrechtlichem Grundwissens. Zusätzlich werden wichtige Verbindungen zwischen Steuerrecht\, Buchhaltung und betriebswirtschaftlichen Fragestellungen thematisiert.\nSteuerberater Andre Haueis\nDipl.-Kfm. Mario Geißler\, Tel.: 0371/53119905\, mario.geissler@saxeed.net
ORGANIZER:MAILTO:franziska.patzig@s2008.tu-chemnitz.de
UID:13777@www.tu-chemnitz.de
CREATED:20111024T141500Z
DTSTAMP:20210802T192522Z
END:VEVENT
END:VCALENDAR
