BEGIN:VCALENDAR
VERSION:2.0
PRODID:TU Chemnitz
METHOD:PUBLISH
X-WR-CALNAME:Veranstaltungen der TU Chemnitz
X-WR-TIMEZONE:Europe/Berlin
BEGIN:VEVENT
CLASS:PUBLIC
DTSTART;TZID="Europe/Berlin":20111202T140000
DTEND;TZID="Europe/Berlin":20111202T180000
LOCATION:Pegasus-Center\, Chemnitz
SUMMARY:Workshop: Steuerrecht für Existenzgründer (TU Chemnitz\, Gründernetzwerk SAXEED)
DESCRIPTION:Oftmals scheitern Jungunternehmer aufgrund fehlender steuerrechtlicher Kenntnisse. Die Workshopreihe schließt wichtige Lücken bei steuerlichen Kenntnissen und baut das notwendige Basiswissen für Existenzgründer nachvollziehbar und anschaulich auf.\nSteuerberater Andre Haueis\nDipl.-Kfm. Mario Geißler\, Tel.: 0371/53119905\, mario.geissler@saxeed.net
ORGANIZER:MAILTO:franziska.patzig@s2008.tu-chemnitz.de
UID:13776@www.tu-chemnitz.de
CREATED:20111024T141200Z
DTSTAMP:20210802T192521Z
END:VEVENT
END:VCALENDAR
