BEGIN:VCALENDAR
VERSION:2.0
PRODID:TU Chemnitz
METHOD:PUBLISH
X-WR-CALNAME:Veranstaltungen der TU Chemnitz
X-WR-TIMEZONE:Europe/Berlin
BEGIN:VEVENT
CLASS:PUBLIC
DTSTART;TZID="Europe/Berlin":20111104T090000
DTEND;TZID="Europe/Berlin":20111104T170000
LOCATION:Pegasus-Center\, Chemnitz
SUMMARY:Workshop: Training im B2B-Salescycle (TU Chemnitz\, Gründernetzwerk SAXEED)
DESCRIPTION:Nach der Einführungsveranstaltung am 03.11.2011 nun der Kameraworkshop 1.\nMario Geißler\, Marc Banaszak; SAXEED\nDipl.-Kfm. Mario Geißler\, Tel.: 0371/53119905\, mario.geissler@saxeed.net
ORGANIZER:MAILTO:franziska.patzig@s2008.tu-chemnitz.de
UID:13772@www.tu-chemnitz.de
CREATED:20111024T135300Z
DTSTAMP:20210802T192547Z
END:VEVENT
END:VCALENDAR
